BEGIN:VCALENDAR
VERSION:2.0
PRODID:-//Ferenczy Múzeum - ECPv6.15.20//NONSGML v1.0//EN
CALSCALE:GREGORIAN
METHOD:PUBLISH
X-ORIGINAL-URL:https://femuz.hu
X-WR-CALDESC:Események Ferenczy Múzeum
REFRESH-INTERVAL;VALUE=DURATION:PT1H
X-Robots-Tag:noindex
X-PUBLISHED-TTL:PT1H
BEGIN:VTIMEZONE
TZID:Europe/Budapest
BEGIN:DAYLIGHT
TZOFFSETFROM:+0100
TZOFFSETTO:+0200
TZNAME:CEST
DTSTART:20180325T010000
END:DAYLIGHT
BEGIN:STANDARD
TZOFFSETFROM:+0200
TZOFFSETTO:+0100
TZNAME:CET
DTSTART:20181028T010000
END:STANDARD
BEGIN:DAYLIGHT
TZOFFSETFROM:+0100
TZOFFSETTO:+0200
TZNAME:CEST
DTSTART:20190331T010000
END:DAYLIGHT
BEGIN:STANDARD
TZOFFSETFROM:+0200
TZOFFSETTO:+0100
TZNAME:CET
DTSTART:20191027T010000
END:STANDARD
BEGIN:DAYLIGHT
TZOFFSETFROM:+0100
TZOFFSETTO:+0200
TZNAME:CEST
DTSTART:20200329T010000
END:DAYLIGHT
BEGIN:STANDARD
TZOFFSETFROM:+0200
TZOFFSETTO:+0100
TZNAME:CET
DTSTART:20201025T010000
END:STANDARD
BEGIN:DAYLIGHT
TZOFFSETFROM:+0100
TZOFFSETTO:+0200
TZNAME:CEST
DTSTART:20210328T010000
END:DAYLIGHT
BEGIN:STANDARD
TZOFFSETFROM:+0200
TZOFFSETTO:+0100
TZNAME:CET
DTSTART:20211031T010000
END:STANDARD
BEGIN:DAYLIGHT
TZOFFSETFROM:+0100
TZOFFSETTO:+0200
TZNAME:CEST
DTSTART:20220327T010000
END:DAYLIGHT
BEGIN:STANDARD
TZOFFSETFROM:+0200
TZOFFSETTO:+0100
TZNAME:CET
DTSTART:20221030T010000
END:STANDARD
BEGIN:DAYLIGHT
TZOFFSETFROM:+0100
TZOFFSETTO:+0200
TZNAME:CEST
DTSTART:20230326T010000
END:DAYLIGHT
BEGIN:STANDARD
TZOFFSETFROM:+0200
TZOFFSETTO:+0100
TZNAME:CET
DTSTART:20231029T010000
END:STANDARD
BEGIN:DAYLIGHT
TZOFFSETFROM:+0100
TZOFFSETTO:+0200
TZNAME:CEST
DTSTART:20240331T010000
END:DAYLIGHT
BEGIN:STANDARD
TZOFFSETFROM:+0200
TZOFFSETTO:+0100
TZNAME:CET
DTSTART:20241027T010000
END:STANDARD
BEGIN:DAYLIGHT
TZOFFSETFROM:+0100
TZOFFSETTO:+0200
TZNAME:CEST
DTSTART:20250330T010000
END:DAYLIGHT
BEGIN:STANDARD
TZOFFSETFROM:+0200
TZOFFSETTO:+0100
TZNAME:CET
DTSTART:20251026T010000
END:STANDARD
BEGIN:DAYLIGHT
TZOFFSETFROM:+0100
TZOFFSETTO:+0200
TZNAME:CEST
DTSTART:20260329T010000
END:DAYLIGHT
BEGIN:STANDARD
TZOFFSETFROM:+0200
TZOFFSETTO:+0100
TZNAME:CET
DTSTART:20261025T010000
END:STANDARD
BEGIN:DAYLIGHT
TZOFFSETFROM:+0100
TZOFFSETTO:+0200
TZNAME:CEST
DTSTART:20270328T010000
END:DAYLIGHT
BEGIN:STANDARD
TZOFFSETFROM:+0200
TZOFFSETTO:+0100
TZNAME:CET
DTSTART:20271031T010000
END:STANDARD
BEGIN:DAYLIGHT
TZOFFSETFROM:+0100
TZOFFSETTO:+0200
TZNAME:CEST
DTSTART:20280326T010000
END:DAYLIGHT
BEGIN:STANDARD
TZOFFSETFROM:+0200
TZOFFSETTO:+0100
TZNAME:CET
DTSTART:20281029T010000
END:STANDARD
BEGIN:DAYLIGHT
TZOFFSETFROM:+0100
TZOFFSETTO:+0200
TZNAME:CEST
DTSTART:20290325T010000
END:DAYLIGHT
BEGIN:STANDARD
TZOFFSETFROM:+0200
TZOFFSETTO:+0100
TZNAME:CET
DTSTART:20291028T010000
END:STANDARD
BEGIN:DAYLIGHT
TZOFFSETFROM:+0100
TZOFFSETTO:+0200
TZNAME:CEST
DTSTART:20300331T010000
END:DAYLIGHT
BEGIN:STANDARD
TZOFFSETFROM:+0200
TZOFFSETTO:+0100
TZNAME:CET
DTSTART:20301027T010000
END:STANDARD
END:VTIMEZONE
BEGIN:VEVENT
DTSTART;TZID=Europe/Budapest:20190315T100000
DTEND;TZID=Europe/Budapest:20291231T180000
DTSTAMP:20260419T231739
CREATED:20250916T061333Z
LAST-MODIFIED:20260414T122833Z
UID:43-1552644000-1893434400@femuz.hu
SUMMARY:Kovács Margit\, a Duna királynője
DESCRIPTION:Belépve a Kovács Margit Kerámiamúzeumba a dekoratív megformálás\, az emberközeli témák\, a mitológiai\, bibliai történetek egy szerethető\, ismerős világot teremtenek. Kovács Margit kerámiáiban a román kori templomok zömök\, nyers formái\, a gótikus katedrálisok nyúlánk\, törékeny alakjai\, a bizánci könyvillusztrációk merevségükben fenséges megfogalmazása\, a mézeskalácsbáb-sütő formák bájos aprólékossága\, az elefántcsont-faragványok karakteres vonalvezetése\, a fazekastárgyak dekoratív egyszerűsége\, a kelta faragások tömbszerűsége és lapos indái\, az ázsiai szobrászat nyújtott\, lényegre törő formakezelése\, a magyaros mintákat kereső szecesszió színes\, stilizált világa éled újra játékos kedvvel\, egyéni látásmóddal\, dekoratív felszínességgel. \nKovács Margit rendkívül sokoldalú\, technikailag bravúros\, tematikájában igen változatos életművét\, egyenletesen sikeres\, töretlen pályáját új megközelítésben mutatjuk be. Megbomlik az idővonal\, mindamellett egyes periódusokra nagyobb hangsúly kerül\, jól ismert darabok kiemelt helyet kapnak\, rég nem látott művek kerülnek elő. Az eddig feldolgozatlan hagyatékból dokumentumok\, levelek és fotók is feltűnnek az új rendezésben árnyaltabb képet adva Kovács Margit személyiségéről. A felfrissített tárlat nagyban kiszélesíti az életművet: az eddig ismert és újonnan azonosított\, Magyarország területén elszórtan látható kültéri és köztéri munkák gyűjteménye is láthatóvá válik a szentendrei anyag mellett. A friss\, dinamikus kiállítás interaktív felületekkel\, archív felvételekkel és videókkal hozza közelebb a látogatókhoz legnépszerűbb keramikusunk munkáit\, és idézi meg a korszakokat\, amikor Kovács Margit kerámiái készültek.
URL:https://femuz.hu/esemeny/kovacs-margit/
LOCATION:Kovács Margit Kerámiamúzeum
CATEGORIES:Aktuális kiállítások
ATTACH;FMTTYPE=image/jpeg:https://femuz.hu/wp-content/uploads/2025/09/kovacs-margit-1200x630-1.jpg
END:VEVENT
BEGIN:VEVENT
DTSTART;TZID=Europe/Budapest:20190412T100000
DTEND;TZID=Europe/Budapest:20291231T180000
DTSTAMP:20260419T231739
CREATED:20260117T092745Z
LAST-MODIFIED:20260117T092745Z
UID:1267-1555063200-1893434400@femuz.hu
SUMMARY:Margit Kovács\, Queen of the Danube
DESCRIPTION:Thanks to the decorative modelling\, the subjects of human interest\, the mythological and biblical stories\, the Kovács Margit Ceramics Museum welcomes visitors with a loveable\, familiar world. With a playful spirit\, individual outlook and superficial decorativeness\, Margit Kovács’s ceramic works breathe new life into the squat\, coarse forms of Romanesque churches\, the slender\, delicate shapes of Gothic cathedrals\, the rigid yet sublime manner of Byzantine manuscript illustrations\, the charming meticulousness of gingerbread moulds\, the distinctive lineation of ivory carvings\, the ornate simplicity of pottery\, the blocky quality and flat tendrils of Celtic reliefs\, the elongated\, concise forms of Asian sculpture\, the colourful\, stylized world of an Art Nouveau that employs patterns with a Hungarian taste. \nWe have applied a new approach to our presentation of Margit Kovács’s multifaceted oeuvre\, her bravura technique and richness of themes\, a career that was invariably successful. The timeline is no longer continuous\, and certain periods receive more attention; well-known pieces are highlighted\, and ones that have not been on view for a long time are now displayed. The new arrangement also features documents\, letters and photos from the as-yet-uncatalogued estate\, adding nuance to the image of Margit Kovács’s personality. This revamped exhibition greatly extends the view of the oeuvre\, presenting\, in addition to the material held in Szentendre\, a collection of such outdoor and public works that are scattered across Hungary\, and which include both pieces already known and ones newly identified. With the use of interactive surfaces\, archival photos and videos\, this fresh\, dynamic display brings the works of Hungary’s most popular ceramic artist closer to the audience\, and evokes the periods during which Margit Kovács made ceramics.
URL:https://femuz.hu/esemeny/margit-kovacs-queen-of-the-danube/
LOCATION:Kovács Margit Kerámiamúzeum
CATEGORIES:Current exhibitions
ATTACH;FMTTYPE=image/jpeg:https://femuz.hu/wp-content/uploads/2025/09/kovacs-margit-1200x630-1.jpg
END:VEVENT
BEGIN:VEVENT
DTSTART;TZID=Europe/Budapest:20231111T000000
DTEND;TZID=Europe/Budapest:20241103T000000
DTSTAMP:20260419T231739
CREATED:20260325T110920Z
LAST-MODIFIED:20260325T111902Z
UID:2894-1699660800-1730592000@femuz.hu
SUMMARY:Vajda Lajos Szentendréje
DESCRIPTION:Brossúra \nKatalógus \n\n“Hídépítők akarunk lenni” – írja Vajda Lajos\, későbbi feleségének Vajda Júliának 1936. augusztusában. A rövid-tömör mondat\, a forradalmi állítás két fiatal\, a saját útját kereső és ezáltal az egész magyar modern művészeti életet megújítani szándékozó alkotó: Vajda Lajos és Korniss Dezső közös gondolata volt. A két fiatal művész 1935 és 1936-ban együtt járták Szentendrét és környékét\, hogy a Bartók és Kodály nyomán az autentikusnak vélt népművészetből gyűjtsenek motívumokat\, majd ezeket saját avantgárd alapokon nyugvó művészetükbe integrálják. Szentendre és környéke nagyon megváltozott az utóbbi 100 évben\, de mind a mai napig sok építészeti motívum és városi részlet felismerhető Vajda és Korniss művein. Tartsanak velünk az izgalmas motívumvadászaton\, és beszélgessünk együtt Vajda művészetéről\, Szentendre örökségéről\, a múlt\, a jelen és a jövő kapcsolódásáról. \n  \nVajda Lajos (1908–1941)\, a 20. századi magyar avantgárd/modern képzőművészet kiemelkedő alkotójának élete és művészete elválaszthatatlan Szentendrétől. A város jellegzetes motívumai\, építészeti és természeti öröksége\, rejtett kincsei és különleges atmoszférája megtermékenyítően hatott Vajda progresszív művészeti szemléletére. A Vajda Szentendréje című kiállítás\, az elmúlt évek kutatásainak eredményeit is bemutatva\, a művész egy-egy alkotását kapcsolja össze Szentendre ikonikus részleteivel\, a művészi motívumokat az eredeti ősforrásokkal\, az életművön keresztül felvillantva Szentendre városának helytörténeti vonatkozásait\, gazdag és megőrzésre méltó múltját\, valamint 21. századi jelenét. \n  \nVajda Lajos viszonya Szentendre városképéhez\, a település sajátos hangulatához\, a helyi hagyományhoz és a különböző motívumokhoz folyamatosan változott – az útkeresés korai éveiben főleg a város „nagy látványai” foglalkoztatták a művészt\, majd egyre közelebbről\, a részletekre fókuszálva vizsgálta a település épített örökségét: a temetőket\, a Szamárhegy utcáinak apró részleteit\, gyorsan elmúló népi emlékeket. 1938-tól soha többé nem jelent meg a város egyetlen fragmentuma sem művein. Vajda életműve híven tükrözi a tradícióból táplálkozó progresszió útjait\, a múlt avantgárd szemléletű megújításának lehetőségét. Vajda szentendrei motívumait a körülötte dolgozó művésztársak kontextusában is vizsgáljuk\, elsősorban Korniss Dezső és Bálint Endre alkotásain keresztül. \n  \nA motívumok megtermékenyítő hatását és vándorlását egy kiemelt példán keresztül mutatja be az utolsó terem\, ahol Vajda művészetének egyik alapvető jelképét\, az ikon- és pléhkrisztusból kialakult bábufigura eredetét\, majd az 1968 és 1975 közötti időszakban a szentendrei művészek körében történő továbbélését és formai-tartalmi módosulásait tárjuk fel. \n\n\n\n\n  \nKiállító művészek:\nVAJDA LAJOS\, Aknay János\, Balogh László\, Barcsay Jenő\, Bálint Endre\, Deim Pál\, Korniss Dezső\, Matyófalvi Gábor\, ef Zámbó István
URL:https://femuz.hu/esemeny/vajda-lajos-szentendreje/
LOCATION:Vajda Múzeum
CATEGORIES:2024
ATTACH;FMTTYPE=image/jpeg:https://femuz.hu/wp-content/uploads/2026/03/5141_1050.jpg
END:VEVENT
BEGIN:VEVENT
DTSTART;TZID=Europe/Budapest:20240309T080000
DTEND;TZID=Europe/Budapest:20240901T170000
DTSTAMP:20260419T231739
CREATED:20260217T084030Z
LAST-MODIFIED:20260217T084256Z
UID:2438-1709971200-1725210000@femuz.hu
SUMMARY:Jávor Piroska
DESCRIPTION:Szentendre nem panaszkodhat arra\, hogy a Múzsák csak ritkán látogatták meg a várost az elmúlt több mint száz évben. A Réti-tanítványok 1926-os letelepedése és az általuk megalapított Szentendrei Festők Társasága keltette fel a művészek érdeklődését a mediterrán hangulatú kisváros iránt. Már az 1930-as években is számos festő látogatta a települést\, sőt\, többen le is telepedtek. A Régi Művésztelepnek nevezett művészkolóniában 1945 után számos neves alkotó dolgozott. Festőkből tehát nem volt hiány\, amikor az1960-as évek vége felé megszületett a döntés\, hogy Szentendre kap egy újabb művésztelepet a Kálváriadombon. 1969 őszére készültek el az új műteremlakások. Itt kapott műtermet Asszonyi Tamás szobrászművész és felesége\, Jávor Piroska festőművész. Az Új Művésztelep az itt letelepedőknek az alkotó munkához évtizedek óta nyugodt légkört biztosít\, tehát bátran nevezhetjük szentendrei Parnasszusnak. \nJávor Piroska a Képzőművészeti Főiskola befejezése után költözik a telepre. Kezdetben a tűzzománc dekorativitása vonzza\, de gobelin-készítéssel is kísérletezik\, végül mégis a festészetet választja kifejező eszközül. A szentendrei művészet több évtizedes történetében markáns törekvések egyikeként jelenik meg a geometrizáló nonfigurativitás\, és a konstruktív képépítés. Jávor Piroska ennek a vonulatnak egy általa kidolgozott változatát teremti meg. Kezdetben akvarelljei hívják elő a különös lebegő formációkat\, amelyek időnként tárgyias utalásokat is hordoznak. Majd az olajképeken a geometrikus alakzatokat szabálytalan motívumokkal varázsolja személyessé\, miközben a háttér kézjegyet eltüntető precizitása intellektuálissá teszi a személyességet. Az elmúlt közel 20 évben a formavilág kristályosabbá válik\, és megnő a szabályos geometriai elemek és matematikai összefüggések játékossága. A betűk és számok egyszerre lesznek jelentéssel teli alakzatok és ritmizáló formák. A színek pedig szinte vizuális dallamok taktusaiként értelmezhetők. \nKatalógus
URL:https://femuz.hu/esemeny/javor-piroska/
LOCATION:Szentendrei Képtár
CATEGORIES:2024
ATTACH;FMTTYPE=image/jpeg:https://femuz.hu/wp-content/uploads/2026/02/javor-piroska-jatek-a-parnasszuson-fmc-scaled.jpg
END:VEVENT
BEGIN:VEVENT
DTSTART;TZID=Europe/Budapest:20240407T080000
DTEND;TZID=Europe/Budapest:20240728T170000
DTSTAMP:20260419T231739
CREATED:20260124T092508Z
LAST-MODIFIED:20260124T092553Z
UID:1615-1712476800-1722186000@femuz.hu
SUMMARY:Európai Iskola
DESCRIPTION:Az 1945–1948 között működő\, a huszadik századi magyar művészettörténetben jelentős szerepet betöltő\, a későbbi generációkra is hatással levő művészcsoport munkásságát új szempontok\, kutatási eredmények segítségével mutatjuk be a MűvészetMalomban nyíló tárlaton. A kiállítás megvalósítását több éves kutatómunka előzte meg\, amelyben a téma jeles szakértői – Passuth Krisztina\, Árvai Mária\, Bodonyi Emőke\, Hornyik Sándor\, Pataki Gábor\, Várkonyi György – vettek részt. Tematikus egységek mellett korabeli kiállítások rekonstrukciójával tekinthetjük át az Európai Iskola és a belőlük kivált Elvont művészek magyarországi csoportjának tevékenységét. Nemcsak a művészcsoport magyar tagjainak\, hanem a kiállításaikon szereplő vagy velük kapcsolatot ápoló cseh\, román\, holland és francia művészek alkotásai is láthatók a jelentős hazai- és külföldi gyűjteményekből kölcsönzött\, több mint kétszáz műtárgyat felvonultató tárlaton. \nA rövid életű magyar demokrácia éveiben az Európai Iskola a progresszív hazai művészet képviselője kívánt lenni\, emellett pedig az európai művészet új tendenciáit is igyekezett itthon megismertetni. Intenzív kiállításrendezés\, ismeretterjesztés\, saját kiadványok és nemzetközi kapcsolatépítés jellemezte a csoport hároméves fennállását. Képzőművészek mellett elméleti szakemberek\, írók\, költők\, orvosok\, műgyűjtők csatlakoztak hozzá. Egy rövid időre úgy tűnt\, szinkronba hozható az európai és a magyar művészet\, de az Európai Iskola tagjai már 1947-től támadások kereszttüzében érezték magukat\, és végül\, 1948-ban be kellett szüntetniük működésüket. \nA kiállításon többek között Anna Margit\, Barcsay Jenő\, Bálint Endre\, Bán Béla\, Barta Lajos\, Bokros Birman Dezső\, Czóbel Béla\, Egry József\, Fekete Nagy Béla\, Forgács Hann Erzsébet\, Gadányi Jenő\, Gyarmathy Tihamér\, Jakovits József\, Korniss Dezső\, Lossonczy Tamás\, Marosán Gyula\, Martinszky János\, Martyn Ferenc\, Márffy Ödön\, Rozsda Endre\, Schubert Ernő\, Szántó Piroska\, Vajda Júlia\, Vilt Tibor\, Zemplényi Magda alkotásai szerepelnek. \n\nBROSSÚRA
URL:https://femuz.hu/esemeny/europai-iskola/
LOCATION:Művészetmalom
CATEGORIES:2024
ATTACH;FMTTYPE=image/jpeg:https://femuz.hu/wp-content/uploads/2026/01/eu_isk_cover_aktiv2.jpg
END:VEVENT
BEGIN:VEVENT
DTSTART;TZID=Europe/Budapest:20240425T080000
DTEND;TZID=Europe/Budapest:20240602T170000
DTSTAMP:20260419T231739
CREATED:20260217T083543Z
LAST-MODIFIED:20260217T083543Z
UID:2435-1714032000-1717347600@femuz.hu
SUMMARY:Válaszút
DESCRIPTION:A Ferenczy Múzeum Centrum Muzeológiai és Irodalmi Osztálya 2022-től egy rendhagyó participatív szemléletű várostörténeti kutatásba kezdett Válaszút címen. A múzeum ennek keretében a hagyományos helytörténeti kutatás módszerei mellett a város egykori és mai lakóinak\, építészeinek bevonásával próbálta megérteni a 11-es út építésének és használatának társadalmi hatásait: miképpen alakította a városképet\, a Szentendréről alkotott elképzeléseket\, hogyan hatott a város további fejlődésére és milyen ma abban a városban élni\, amely ilyen módon megszületett. \nA kutatás tanulságait és eredményeit megelevenítő műhelykiállítás röviden bemutatja az út építésének körülményeit: a várostervezők által megálmodott alternatív nyomvonalakat\, az útépítéssel kapcsolatos társadalmi konfliktusokat és a kádári kompromisszum révén megszülető építkezést és következményeit. A kutatás során interjúkat készítettünk olyan városlakókkal\, akiknek az útépítés miatt a házát lerombolták és a frissen emelt lakótelepen helyezték el őket\, valamint olyan szentendreiekkel\, akiknek együtt kell élniük az otthonuk tőszomszédságába költözött főúttal. Az interjúk alapján megmutatkoznak az út építésével kapcsolatos ellentmondások\, tágabban pedig érzékelteti\, hogy a város történetével\, fejlődésével kapcsolatos párbeszédben ott rejlenek a diktatúra nehéz nyomai. \nA kutatás következő fázisaiban a Válaszút azokat a szentendreieket is bevonta\, akik a jelen mindennapjaiban birtokba veszik és használják a várost. A kiállítás felvillantja a felnőtt lakosság várossal kapcsolatos attitűdjében mutatkozó mintázatokat\, a városi terekhez és az úthoz kapcsolt képzettársításokat\, emellett pedig – a leglátványosabb elemeként – betekintést enged a gyermeki fantázia világába\, megmutatva milyen érzelmeket és élményeket társítanak a város tereit felfedező legfiatalabb generációk. Szentendre gyermekszemmel megformált tereit a II. Rákóczi Ferenc Általános Iskola és Gimnázium diákja alkották meg rajzos formában a Ferenczy Múzeumi Centrum múzeumpedagógusaival együttműködve. \nA kiállítás arra tesz kísérletet\, hogy elindítson egy társadalmi párbeszédet a város örökségével kapcsolatban\, amely révén a város történelmét nem hatalmi elitek\, elidegenedett intézmények\, hanem maguk a közösség tagjai mondhatják el. Az esemény nem véletlenül kapta a műhelykiállítás nevet\, a kisméretű\, emberléptékű tárlat a tudásátadás mellett elsősorban interaktív szemléletre és a városról való közös gondolkodásra invitálja a befogadót.
URL:https://femuz.hu/esemeny/valaszut/
LOCATION:Ferenczy Múzeum
CATEGORIES:2024
ATTACH;FMTTYPE=image/jpeg:https://femuz.hu/wp-content/uploads/2026/02/valaszut-fmc-scaled.jpg
END:VEVENT
END:VCALENDAR